BEGIN:VCALENDAR
VERSION:2.0
PRODID:-//wp-events-plugin.com//7.2.3.1//EN
BEGIN:VEVENT
UID:199@recordingbusiness.com
DTSTART;VALUE=DATE:20260621
DTEND;VALUE=DATE:20260623
DTSTAMP:20241101T181340Z
URL:https://recordingbusiness.com/calendar/world-music-day-2026-06-21/
SUMMARY:World Music Day
DESCRIPTION:Happy World Music Day
CATEGORIES:Holidays,Music Holidays
END:VEVENT
END:VCALENDAR