BEGIN:VCALENDAR
VERSION:2.0
PRODID:-//wp-events-plugin.com//7.2.3.1//EN
BEGIN:VEVENT
UID:1231@recordingbusiness.com
DTSTART;TZID=America/New_York;VALUE=DATE:20291111
DTEND;TZID=America/New_York;VALUE=DATE:20291113
DTSTAMP:20241101T191255Z
URL:https://recordingbusiness.com/calendar/veterans-day-2029-11-11/
SUMMARY:Veterans’ Day
DESCRIPTION:
CATEGORIES:American Holidays,General Holidays,Holidays
END:VEVENT
BEGIN:VTIMEZONE
TZID:America/New_York
X-LIC-LOCATION:America/New_York
BEGIN:STANDARD
DTSTART:20291104T010000
TZOFFSETFROM:-0400
TZOFFSETTO:-0500
TZNAME:EST
END:STANDARD
END:VTIMEZONE
END:VCALENDAR