BEGIN:VCALENDAR
VERSION:2.0
PRODID:-//wp-events-plugin.com//7.2.3.1//EN
BEGIN:VEVENT
UID:186@recordingbusiness.com
DTSTART;TZID=America/New_York;VALUE=DATE:20271106
DTEND;TZID=America/New_York;VALUE=DATE:20271108
DTSTAMP:20241101T175200Z
URL:https://recordingbusiness.com/calendar/national-saxophone-day-2027-11-
 06/
SUMMARY:National Saxophone Day
DESCRIPTION:Happy National Saxophone Day
CATEGORIES:Celebration,Holidays,Music Holidays,National Holidays
END:VEVENT
BEGIN:VTIMEZONE
TZID:America/New_York
X-LIC-LOCATION:America/New_York
BEGIN:DAYLIGHT
DTSTART:20270314T030000
TZOFFSETFROM:-0500
TZOFFSETTO:-0400
TZNAME:EDT
END:DAYLIGHT
BEGIN:STANDARD
DTSTART:20271107T010000
TZOFFSETFROM:-0400
TZOFFSETTO:-0500
TZNAME:EST
END:STANDARD
END:VTIMEZONE
END:VCALENDAR