BEGIN:VCALENDAR
VERSION:2.0
PRODID:-//wp-events-plugin.com//7.2.3.1//EN
BEGIN:VEVENT
UID:1236@recordingbusiness.com
DTSTART;TZID=America/New_York;VALUE=DATE:20261113
DTEND;TZID=America/New_York;VALUE=DATE:20261115
DTSTAMP:20241101T191857Z
URL:https://recordingbusiness.com/calendar/national-hug-a-musician-day-202
 6-11-13/
SUMMARY:National Hug a Musician Day
DESCRIPTION:Happy National Hug a Musician Day
CATEGORIES:Appreciation,Holidays
END:VEVENT
BEGIN:VTIMEZONE
TZID:America/New_York
X-LIC-LOCATION:America/New_York
BEGIN:STANDARD
DTSTART:20261101T010000
TZOFFSETFROM:-0400
TZOFFSETTO:-0500
TZNAME:EST
END:STANDARD
END:VTIMEZONE
END:VCALENDAR