BEGIN:VCALENDAR
VERSION:2.0
PRODID:-//wp-events-plugin.com//7.2.3.1//EN
BEGIN:VEVENT
UID:1245@recordingbusiness.com
DTSTART;TZID=America/New_York;VALUE=DATE:20271115
DTEND;TZID=America/New_York;VALUE=DATE:20271117
DTSTAMP:20241101T192101Z
URL:https://recordingbusiness.com/calendar/national-drummer-day-2027-11-15
 /
SUMMARY:National Drummer Day
DESCRIPTION:Happy National Drummer Day
CATEGORIES:Appreciation
END:VEVENT
BEGIN:VTIMEZONE
TZID:America/New_York
X-LIC-LOCATION:America/New_York
BEGIN:STANDARD
DTSTART:20271107T010000
TZOFFSETFROM:-0400
TZOFFSETTO:-0500
TZNAME:EST
END:STANDARD
END:VTIMEZONE
END:VCALENDAR