BEGIN:VCALENDAR
VERSION:2.0
PRODID:-//wp-events-plugin.com//7.2.3.1//EN
BEGIN:VEVENT
UID:1214@recordingbusiness.com
DTSTART;VALUE=DATE:20270601
DTEND;VALUE=DATE:20270702
DTSTAMP:20241101T190507Z
URL:https://recordingbusiness.com/calendar/national-dj-month-2-2027-06-01/
SUMMARY:National DJ Month
DESCRIPTION:Happy National DJ Month
CATEGORIES:Holidays,Month Long
END:VEVENT
END:VCALENDAR