BEGIN:VCALENDAR
VERSION:2.0
PRODID:-//wp-events-plugin.com//7.2.3.1//EN
BEGIN:VEVENT
UID:1224@recordingbusiness.com
DTSTART;TZID=America/New_York;VALUE=DATE:20300704
DTEND;TZID=America/New_York;VALUE=DATE:20300706
DTSTAMP:20241101T191103Z
URL:https://recordingbusiness.com/calendar/independence-day-july-4th-2030-
 07-04/
SUMMARY:Independence Day (July 4th)
DESCRIPTION:Happy Independence Day America!
CATEGORIES:American Holidays,Federal Holidays
END:VEVENT
BEGIN:VTIMEZONE
TZID:America/New_York
X-LIC-LOCATION:America/New_York
BEGIN:DAYLIGHT
DTSTART:20300310T030000
TZOFFSETFROM:-0500
TZOFFSETTO:-0400
TZNAME:EDT
END:DAYLIGHT
END:VTIMEZONE
END:VCALENDAR