BEGIN:VCALENDAR
VERSION:2.0
PRODID:-//wp-events-plugin.com//7.2.3.1//EN
BEGIN:VEVENT
UID:181@recordingbusiness.com
DTSTART;TZID=America/New_York;VALUE=DATE:20291031
DTEND;TZID=America/New_York;VALUE=DATE:20291102
DTSTAMP:20241101T174811Z
URL:https://recordingbusiness.com/calendar/halloween-2029-10-31/
SUMMARY:Halloween
DESCRIPTION:Happy Halloween
CATEGORIES:Celebration,General Holidays,Holidays
END:VEVENT
BEGIN:VTIMEZONE
TZID:America/New_York
X-LIC-LOCATION:America/New_York
BEGIN:DAYLIGHT
DTSTART:20290311T030000
TZOFFSETFROM:-0500
TZOFFSETTO:-0400
TZNAME:EDT
END:DAYLIGHT
END:VTIMEZONE
END:VCALENDAR