BEGIN:VCALENDAR
VERSION:2.0
PRODID:-//wp-events-plugin.com//7.2.3.1//EN
BEGIN:VEVENT
UID:192@recordingbusiness.com
DTSTART;TZID=America/New_York;VALUE=DATE:20261225
DTEND;TZID=America/New_York;VALUE=DATE:20261227
DTSTAMP:20241101T180512Z
URL:https://recordingbusiness.com/calendar/christmas-2026-12-25/
SUMMARY:Christmas
DESCRIPTION:Merry Christmas!
CATEGORIES:Celebration,Federal Holidays,General Holidays,Holidays,National
 Holidays,Religious Holidays
END:VEVENT
BEGIN:VTIMEZONE
TZID:America/New_York
X-LIC-LOCATION:America/New_York
BEGIN:STANDARD
DTSTART:20261101T010000
TZOFFSETFROM:-0400
TZOFFSETTO:-0500
TZNAME:EST
END:STANDARD
END:VTIMEZONE
END:VCALENDAR